BEGIN:VCALENDAR
VERSION:2.0
PRODID:-//Tukios.com/
BEGIN:VEVENT
UID:884917d9-dc8d-415a-a9ff-aed7800ec384@www.churchfuneralservices.com
DTSTAMP:20260423T162413Z
DTSTART:20260430T150000Z
DTEND:20260430T160000Z
SUMMARY:Mass
DESCRIPTION:
URL:https://www.churchfuneralservices.com/obituaries/thayer-cooper
LOCATION:Our Lady of Mercy Catholic Church 445 Marquette Ave  Baton Rouge 
	LA 70806
GEO:30.4456242;-91.1243069
END:VEVENT
END:VCALENDAR