BEGIN:VCALENDAR
VERSION:2.0
PRODID:-//Tukios.com/
BEGIN:VEVENT
UID:32ec580a-ff34-45fb-a081-3b515822cac6@www.churchfuneralservices.com
DTSTAMP:20260423T163128Z
DTSTART:20260430T140000Z
DTEND:20260430T150000Z
SUMMARY:Visitation
DESCRIPTION:
URL:https://www.churchfuneralservices.com/obituaries/thayer-cooper
LOCATION:Our Lady of Mercy Catholic Church 445 Marquette Ave  Baton Rouge 
	LA 70806
GEO:30.4456242;-91.1243069
END:VEVENT
END:VCALENDAR