BEGIN:VCALENDAR
VERSION:2.0
PRODID:-//Tukios.com/
BEGIN:VEVENT
UID:3c52da78-a3fb-448a-8141-099b9bfa6765@www.churchfuneralservices.com
DTSTAMP:20260425T231127Z
DTSTART:20260502T160000Z
DTEND:20260502T170000Z
SUMMARY:Funeral Service
DESCRIPTION:
URL:https://www.churchfuneralservices.com/obituaries/robert-clement
LOCATION:Crossfire Auditorium @ Jimmy Swaggart Ministries 8919 World 
	Ministry Avenue  Baton Rouge LA 70810
GEO:30.3864675;-91.0921297
END:VEVENT
END:VCALENDAR