BEGIN:VCALENDAR
VERSION:2.0
PRODID:-//Tukios.com/
BEGIN:VEVENT
UID:92c9fcb6-8995-4b1c-bd67-4a7bc74dec7f@www.churchfuneralservices.com
DTSTAMP:20260425T230544Z
DTSTART:20260502T150000Z
DTEND:20260502T160000Z
SUMMARY:Visitation
DESCRIPTION:
URL:https://www.churchfuneralservices.com/obituaries/robert-clement
LOCATION:Crossfire Auditorium @ Jimmy Swaggart Ministries 8919 World 
	Ministry Avenue  Baton Rouge LA 70810
GEO:30.3864675;-91.0921297
END:VEVENT
END:VCALENDAR