BEGIN:VCALENDAR
VERSION:2.0
PRODID:-//Tukios.com/
BEGIN:VEVENT
UID:42b4b3e3-3f2a-4b9a-a506-005939ca18f7@www.churchfuneralservices.com
DTSTAMP:20260423T193048Z
DTSTART:20260508T160000Z
DTEND:20260508T170000Z
SUMMARY:Mass
DESCRIPTION:
URL:https://www.churchfuneralservices.com/obituaries/laura-clouatre
LOCATION: 44450 LA-429  St Amant LA 70774
GEO:30.2257599;-90.8561224
END:VEVENT
END:VCALENDAR