BEGIN:VCALENDAR
VERSION:2.0
PRODID:-//Tukios.com/
BEGIN:VEVENT
UID:7031b11c-bb1a-4e09-9852-0eaebd1ead4f@www.churchfuneralservices.com
DTSTAMP:20260423T193341Z
DTSTART:20260508T140000Z
DTEND:20260508T160000Z
SUMMARY:Visitation
DESCRIPTION:
URL:https://www.churchfuneralservices.com/obituaries/laura-clouatre
LOCATION: 44450 LA-429  St Amant LA 70774
GEO:30.2257599;-90.8561224
END:VEVENT
END:VCALENDAR