BEGIN:VCALENDAR
VERSION:2.0
PRODID:-//Tukios.com/
BEGIN:VEVENT
UID:7d9ca8c9-b169-4571-8860-80a4a3643e2d@www.churchfuneralservices.com
DTSTAMP:20260421T005601Z
DTSTART:20260425T160000Z
DTEND:20260425T164500Z
SUMMARY:Funeral Service
DESCRIPTION:
URL:https://www.churchfuneralservices.com/obituaries/billy-floyd
LOCATION: 1020 South Range Ave  Denham Springs LA 70726
GEO:30.4719859;-90.9574138
END:VEVENT
END:VCALENDAR