BEGIN:VCALENDAR
VERSION:2.0
PRODID:-//Tukios.com/
BEGIN:VEVENT
UID:ac72bc81-3d1d-46a3-a8b3-d0259a8f0d45@www.churchfuneralservices.com
DTSTAMP:20260421T005241Z
DTSTART:20260425T150000Z
DTEND:20260425T160000Z
SUMMARY:Visitation
DESCRIPTION:
URL:https://www.churchfuneralservices.com/obituaries/billy-floyd
LOCATION:First United Pentecostal Church 1020 South Range Ave  Denham 
	Springs LA 70726
GEO:30.4719859;-90.9574138
END:VEVENT
END:VCALENDAR